BEGIN:VCALENDAR
VERSION:2.0
PRODID:-//Eventin//Event Calendar//EN
CALSCALE:GREGORIAN
METHOD:PUBLISH
BEGIN:VEVENT
UID:81611a353c724ba8944e75093860173d@researchmass.org
SUMMARY:International Jewelry Show\, Amsterdam 2026
DESCRIPTION:International Jewelry Show\, Amsterdam 2026\n09–10 May 2026 |
  Amsterdam\, NetherlandsPowered by ResearchMass\n\nOverview of the Event\nT
 he International Jewelry Show\, Amsterdam 2026 is a premier global gatherin
 g dedicated to the jewelry industry\, bringing together designers\, manufac
 turers\, retailers\, researchers\, and industry professionals from across t
 he world. Taking place on 09–10 May 2026 in Amsterdam\, Netherlands\, thi
 s two-day international conference and exhibition will highlight innovation
 \, craftsmanship\, and business opportunities within the global jewelry sec
 tor.\nPowered by ResearchMass\, a global platform that promotes internation
 al conferences\, collaboration\, and knowledge sharing across industries\, 
 the event aims to create a space where professionals can exchange ideas\, e
 xplore market trends\, and build meaningful partnerships.\nThe Internationa
 l Jewelry Show will combine a conference\, exhibition\, networking platform
 \, and business marketplace\, allowing attendees to experience the latest d
 evelopments in jewelry design\, materials\, manufacturing technology\, and 
 global trade.\nPurpose and Objectives\nThe main goal of the conference is t
 o strengthen collaboration between professionals in the jewelry and luxury 
 accessories industry. The event focuses on:\n\nShowcasing innovative jewelr
 y designs and technologies\nPromoting international business collaboration\
 nExploring market trends and investment opportunities\nCreating a networkin
 g platform for buyers\, suppliers\, and designers\nSupporting knowledge exc
 hange between industry experts and emerging talent\n\nJewelry trade events 
 like this play an important role in connecting suppliers\, manufacturers\, 
 and retailers while highlighting trends in gemstones\, precious metals\, an
 d luxury accessories.\n\nEvent Highlights\nVisitors attending the Internati
 onal Jewelry Show\, Amsterdam 2026 can expect a variety of activities desig
 ned to create a dynamic and valuable experience.\n1. International Jewelry 
 Exhibition\nThe exhibition area will feature booths from international jewe
 lry brands\, independent designers\, gemstone suppliers\, and manufacturing
  companies.\nExhibitors may showcase:\n\nGold and silver jewelry collection
 s\nDiamond and gemstone products\nLuxury watches and accessories\nHandmade 
 artisan jewelry\nSustainable and eco-friendly jewelry designs\nJewelry manu
 facturing equipment and technology\nPackaging\, security\, and retail solut
 ions for jewelry businesses\n\nThese exhibitions give businesses the opport
 unity to present their products directly to global buyers and investors.\n2
 . Conference Sessions and Expert Talks\nA major component of the event will
  be a series of conference sessions and keynote presentations by leading ex
 perts in the jewelry industry.\nTopics may include:\n\nFuture trends in glo
 bal jewelry markets\nSustainable jewelry production\nDigital transformation
  in jewelry retail\nBranding and marketing strategies for luxury products\n
 Investment trends in diamonds and gemstones\nTechnology innovations in jewe
 lry design and manufacturing\n\nThe conference aims to bring together profe
 ssionals from different backgrounds to share insights and create new ideas 
 for industry growth.\n3. Business Networking Opportunities\nNetworking is o
 ne of the most important benefits of attending international conferences. D
 uring the two-day event\, participants will have several opportunities to m
 eet potential partners\, suppliers\, and clients.\nNetworking opportunities
  include:\n\nBusiness matchmaking sessions\nInvestor and startup meetings\n
 Professional networking receptions\nIndustry roundtable discussions\n\nThes
 e interactions can lead to partnerships\, distribution agreements\, and new
  international business opportunities.\n4. Workshops and Masterclasses\nSpe
 cialized workshops will be organized for professionals who want to enhance 
 their knowledge and practical skills.\nPossible workshop topics include:\n\
 nJewelry design techniques\nGemstone identification and certification\nLuxu
 ry brand marketing strategies\nDigital jewelry design tools and software\nJ
 ewelry photography and e-commerce presentation\n\nThese workshops will be l
 ed by experienced designers\, gemologists\, and industry consultants.\n5. P
 roduct Launches and Brand Showcases\nMany jewelry brands use international 
 shows to launch new collections and products. Attendees will have the chanc
 e to see exclusive launches\, limited-edition pieces\, and innovative jewel
 ry technologies.\nFashion shows and product demonstrations may also be orga
 nized to highlight new designs and creative concepts.\nWho Should Attend\nT
 he International Jewelry Show is designed for a wide range of professionals
  and enthusiasts\, including:\n\nJewelry designers and artisans\nGemstone s
 uppliers and traders\nJewelry manufacturers\nRetailers and wholesalers\nLux
 ury fashion brands\nInvestors in jewelry and precious metals\nJewelry stude
 nts and researchers\nE-commerce jewelry businesses\n\nIt is also an excelle
 nt opportunity for entrepreneurs and startups looking to enter the global j
 ewelry market.\nBenefits of Attending\nParticipants will gain several advan
 tages from attending the conference.\nIndustry Knowledge\nLearn about the l
 atest trends\, technologies\, and market insights shaping the global jewelr
 y industry.\nNetworking\nMeet professionals from different countries and bu
 ild relationships that can support future collaborations.\nBusiness Opportu
 nities\nDiscover new suppliers\, potential buyers\, and investment partners
 .\nInnovation Exposure\nExplore cutting-edge jewelry designs\, sustainable 
 materials\, and advanced manufacturing technologies.\nGlobal Market Access\
 nUnderstand international consumer trends and opportunities for expanding j
 ewelry businesses into new markets.\nVisitor Information\nLocation\nAmsterd
 am\, Netherlands is one of Europe’s leading business and cultural destina
 tions\, hosting hundreds of international conferences and exhibitions every
  year. Major venues in the city accommodate events ranging from small meeti
 ngs to large international trade fairs attracting thousands of visitors.\nT
 he city is well known for its luxury retail\, diamond trade history\, and s
 trong jewelry culture.\nTravel and Accessibility\nAmsterdam is easily acces
 sible for international visitors through:\n\nAmsterdam Schiphol Airport (on
 e of Europe’s busiest airports)\nHigh-speed rail connections from major E
 uropean cities\nEfficient public transportation including metro\, tram\, an
 d bus networks\n\nThe city offers a wide range of hotels and accommodations
  suitable for business travelers and conference visitors.\nRegistration\nPa
 rticipants can register as:\n\nConference attendees\nExhibitors\nSponsors\n
 Speakers or presenters\n\nEarly registration is usually recommended to secu
 re participation and exhibition space.\nPowered by ResearchMass\nThe event 
 is supported by ResearchMass\, an international organization that facilitat
 es conferences and professional collaboration across industries. Their goal
  is to bring together experts\, researchers\, and professionals to exchange
  knowledge and develop innovative solutions for global challenges.\nBy orga
 nizing international conferences and events\, ResearchMass helps create pla
 tforms for education\, networking\, and industry growth.\n\nConclusion\nThe
  International Jewelry Show\, Amsterdam 2026 promises to be one of the most
  exciting global events for the jewelry industry. With a combination of exh
 ibitions\, expert talks\, networking opportunities\, and business discussio
 ns\, the conference will provide valuable insights and opportunities for pr
 ofessionals and enthusiasts alike.\nWhether you are a designer\, retailer\,
  investor\, or jewelry enthusiast\, this event offers a unique chance to ex
 plore the future of the jewelry industry while connecting with professional
 s from around the world.
LOCATION:Amsterdam\, Netherlands
DTSTAMP:20260422T142025Z
DTSTART:20260509T060000Z
DTEND:20260510T150000Z
END:VEVENT
END:VCALENDAR
